BEGIN:VCALENDAR
VERSION:2.0
PRODID:-//K.F. Wommels - ECPv6.15.20//NONSGML v1.0//EN
CALSCALE:GREGORIAN
METHOD:PUBLISH
X-WR-CALNAME:K.F. Wommels
X-ORIGINAL-URL:https://kfwommels.nl
X-WR-CALDESC:Evenementen voor K.F. Wommels
REFRESH-INTERVAL;VALUE=DURATION:PT1H
X-Robots-Tag:noindex
X-PUBLISHED-TTL:PT1H
BEGIN:VTIMEZONE
TZID:Europe/Amsterdam
BEGIN:DAYLIGHT
TZOFFSETFROM:+0100
TZOFFSETTO:+0200
TZNAME:CEST
DTSTART:20250330T010000
END:DAYLIGHT
BEGIN:STANDARD
TZOFFSETFROM:+0200
TZOFFSETTO:+0100
TZNAME:CET
DTSTART:20251026T010000
END:STANDARD
BEGIN:DAYLIGHT
TZOFFSETFROM:+0100
TZOFFSETTO:+0200
TZNAME:CEST
DTSTART:20260329T010000
END:DAYLIGHT
BEGIN:STANDARD
TZOFFSETFROM:+0200
TZOFFSETTO:+0100
TZNAME:CET
DTSTART:20261025T010000
END:STANDARD
BEGIN:DAYLIGHT
TZOFFSETFROM:+0100
TZOFFSETTO:+0200
TZNAME:CEST
DTSTART:20270328T010000
END:DAYLIGHT
BEGIN:STANDARD
TZOFFSETFROM:+0200
TZOFFSETTO:+0100
TZNAME:CET
DTSTART:20271031T010000
END:STANDARD
END:VTIMEZONE
BEGIN:VEVENT
DTSTART;TZID=Europe/Amsterdam:20260423T193000
DTEND;TZID=Europe/Amsterdam:20260423T220000
DTSTAMP:20260421T134045
CREATED:20260415T112740Z
LAST-MODIFIED:20260419T150527Z
UID:8443-1776972600-1776981600@kfwommels.nl
SUMMARY:Start Competitie 19.30 uur
DESCRIPTION:Op 23 april starte wy mei de ledenkompetysje! | Meidwaan kin fia de WhatsApp-groep fan de KF. | Sitte jo dêr noch net yn? Jou dit dan efkes troch oan Arjanne Schaafsma of Baukje Terpstra\, dan soargje wy dat jo derby komme. | Wy ha der sin oan – oant op it fjild! | Op 23 april starten we met de ledencompetitie! | Meedoen kan via de WhatsApp-groep van de KF. | Zit je daar nog niet in? Geef dit dan even door aan Arjanne Schaafsma of Baukje Terpstra\, dan zorgen we dat je wordt toegevoegd. | We hebben er zin in – tot op het veld!
URL:https://kfwommels.nl/aktiviteit/start-competitie/
CATEGORIES:Kompetysje Senioaren
END:VEVENT
BEGIN:VEVENT
DTSTART;TZID=Europe/Amsterdam:20260427T100000
DTEND;TZID=Europe/Amsterdam:20260427T235000
DTSTAMP:20260421T134045
CREATED:20260415T112740Z
LAST-MODIFIED:20260419T150823Z
UID:8444-1777284000-1777333800@kfwommels.nl
SUMMARY:Keningspartij
DESCRIPTION:10.00 uur start jeugd \n11.00 uur start senioren
URL:https://kfwommels.nl/aktiviteit/keningspartij/
CATEGORIES:Jeugdpartijen,Ledenpartijen
END:VEVENT
BEGIN:VEVENT
DTSTART;TZID=Europe/Amsterdam:20260428T170000
DTEND;TZID=Europe/Amsterdam:20260428T235000
DTSTAMP:20260421T134045
CREATED:20260415T112820Z
LAST-MODIFIED:20260415T112820Z
UID:8479-1777395600-1777420200@kfwommels.nl
SUMMARY:Jeugdtraining + competitie
DESCRIPTION:17.00 uur kabouters | 17.45 welpen t/m schooljeugd | 18.45 competitie welpen t/m schooljeugd
URL:https://kfwommels.nl/aktiviteit/jeugdtraining-competitie-2/
CATEGORIES:Kompetysje Jongerein
END:VEVENT
BEGIN:VEVENT
DTSTART;TZID=Europe/Amsterdam:20260430T190000
DTEND;TZID=Europe/Amsterdam:20260430T235000
DTSTAMP:20260421T134045
CREATED:20260415T112740Z
LAST-MODIFIED:20260415T112740Z
UID:8445-1777575600-1777593000@kfwommels.nl
SUMMARY:Competitie
DESCRIPTION:
URL:https://kfwommels.nl/aktiviteit/competitie/
CATEGORIES:Kompetysje Senioaren
END:VEVENT
BEGIN:VEVENT
DTSTART;TZID=Europe/Amsterdam:20260506T170000
DTEND;TZID=Europe/Amsterdam:20260506T235000
DTSTAMP:20260421T134045
CREATED:20260415T112809Z
LAST-MODIFIED:20260415T112809Z
UID:8474-1778086800-1778111400@kfwommels.nl
SUMMARY:Jeugdtraining + competitie
DESCRIPTION:17.00 uur kabouters | 17.45 welpen t/m schooljeugd | 18.45 competitie welpen t/m schooljeugd
URL:https://kfwommels.nl/aktiviteit/jeugdtraining-competitie/
CATEGORIES:Kompetysje Jongerein
END:VEVENT
BEGIN:VEVENT
DTSTART;TZID=Europe/Amsterdam:20260507T190000
DTEND;TZID=Europe/Amsterdam:20260507T235000
DTSTAMP:20260421T134045
CREATED:20260415T112741Z
LAST-MODIFIED:20260415T112741Z
UID:8447-1778180400-1778197800@kfwommels.nl
SUMMARY:Competitie
DESCRIPTION:19:30
URL:https://kfwommels.nl/aktiviteit/competitie-2/
CATEGORIES:Kompetysje Senioaren
END:VEVENT
BEGIN:VEVENT
DTSTART;TZID=Europe/Amsterdam:20260512T170000
DTEND;TZID=Europe/Amsterdam:20260512T200000
DTSTAMP:20260421T134045
CREATED:20260415T112821Z
LAST-MODIFIED:20260415T112821Z
UID:8480-1778605200-1778616000@kfwommels.nl
SUMMARY:Jeugdtraining + competitie
DESCRIPTION:17.00 uur kabouters | 17.45 welpen t/m schooljeugd | 18.45 competitie welpen t/m schooljeugd
URL:https://kfwommels.nl/aktiviteit/jeugdtraining-competitie-3/
CATEGORIES:Kompetysje Jongerein
END:VEVENT
BEGIN:VEVENT
DTSTART;TZID=Europe/Amsterdam:20260514T110000
DTEND;TZID=Europe/Amsterdam:20260514T235000
DTSTAMP:20260421T134045
CREATED:20260415T112805Z
LAST-MODIFIED:20260415T112805Z
UID:8470-1778756400-1778802600@kfwommels.nl
SUMMARY:Franke Osinga partij
DESCRIPTION:
URL:https://kfwommels.nl/aktiviteit/franke-osinga-partij/
CATEGORIES:Ledenpartijen
END:VEVENT
BEGIN:VEVENT
DTSTART;TZID=Europe/Amsterdam:20260519T170000
DTEND;TZID=Europe/Amsterdam:20260519T235000
DTSTAMP:20260421T134045
CREATED:20260415T112821Z
LAST-MODIFIED:20260415T112821Z
UID:8481-1779210000-1779234600@kfwommels.nl
SUMMARY:Jeugdtraining + competitie
DESCRIPTION:17.00 uur kabouters | 17.45 welpen t/m schooljeugd | 18.45 competitie welpen t/m schooljeugd
URL:https://kfwommels.nl/aktiviteit/jeugdtraining-competitie-4/
CATEGORIES:Kompetysje Jongerein
END:VEVENT
BEGIN:VEVENT
DTSTART;TZID=Europe/Amsterdam:20260521T190000
DTEND;TZID=Europe/Amsterdam:20260521T235000
DTSTAMP:20260421T134045
CREATED:20260415T112830Z
LAST-MODIFIED:20260415T112830Z
UID:8485-1779390000-1779407400@kfwommels.nl
SUMMARY:Competitie
DESCRIPTION:
URL:https://kfwommels.nl/aktiviteit/competitie-14/
CATEGORIES:Kompetysje Senioaren
END:VEVENT
BEGIN:VEVENT
DTSTART;TZID=Europe/Amsterdam:20260522T150000
DTEND;TZID=Europe/Amsterdam:20260522T235000
DTSTAMP:20260421T134045
CREATED:20260415T112740Z
LAST-MODIFIED:20260415T112758Z
UID:8446-1779462000-1779493800@kfwommels.nl
SUMMARY:Gezamenlijke wedstrijd met KF Easterein
DESCRIPTION:
URL:https://kfwommels.nl/aktiviteit/gezamenlijke-wedstrijd-met-kf-easterein/
CATEGORIES:Jeugdpartijen
END:VEVENT
BEGIN:VEVENT
DTSTART;TZID=Europe/Amsterdam:20260526T170000
DTEND;TZID=Europe/Amsterdam:20260526T235000
DTSTAMP:20260421T134045
CREATED:20260415T112830Z
LAST-MODIFIED:20260415T112830Z
UID:8482-1779814800-1779839400@kfwommels.nl
SUMMARY:Jeugdtraining + competitie
DESCRIPTION:17.00 uur kabouters | 17.45 welpen t/m schooljeugd | 18.45 competitie welpen t/m schooljeugd
URL:https://kfwommels.nl/aktiviteit/jeugdtraining-competitie-5/
CATEGORIES:Kompetysje Jongerein
END:VEVENT
BEGIN:VEVENT
DTSTART;TZID=Europe/Amsterdam:20260528T190000
DTEND;TZID=Europe/Amsterdam:20260528T235000
DTSTAMP:20260421T134045
CREATED:20260415T112749Z
LAST-MODIFIED:20260415T112749Z
UID:8455-1779994800-1780012200@kfwommels.nl
SUMMARY:Competitie
DESCRIPTION:
URL:https://kfwommels.nl/aktiviteit/competitie-6/
CATEGORIES:Kompetysje Senioaren
END:VEVENT
BEGIN:VEVENT
DTSTART;TZID=Europe/Amsterdam:20260602T170000
DTEND;TZID=Europe/Amsterdam:20260602T235000
DTSTAMP:20260421T134045
CREATED:20260415T112830Z
LAST-MODIFIED:20260415T112830Z
UID:8483-1780419600-1780444200@kfwommels.nl
SUMMARY:Jeugdtraining + competitie
DESCRIPTION:17.00 uur kabouters | 17.45 welpen t/m schooljeugd | 18.45 competitie welpen t/m schooljeugd
URL:https://kfwommels.nl/aktiviteit/jeugdtraining-competitie-6/
CATEGORIES:Kompetysje Jongerein
END:VEVENT
BEGIN:VEVENT
DTSTART;TZID=Europe/Amsterdam:20260604T190000
DTEND;TZID=Europe/Amsterdam:20260604T235000
DTSTAMP:20260421T134045
CREATED:20260415T112745Z
LAST-MODIFIED:20260415T112745Z
UID:8451-1780599600-1780617000@kfwommels.nl
SUMMARY:Competitie
DESCRIPTION:
URL:https://kfwommels.nl/aktiviteit/competitie-3/
CATEGORIES:Kompetysje Senioaren
END:VEVENT
BEGIN:VEVENT
DTSTART;TZID=Europe/Amsterdam:20260606T200000
DTEND;TZID=Europe/Amsterdam:20260606T235000
DTSTAMP:20260421T134045
CREATED:20260415T112805Z
LAST-MODIFIED:20260415T112805Z
UID:8471-1780776000-1780789800@kfwommels.nl
SUMMARY:Reade Hynder strjittekeatsen
DESCRIPTION:
URL:https://kfwommels.nl/aktiviteit/reade-hynder-strjittekeatsen/
CATEGORIES:Ledenpartijen
END:VEVENT
BEGIN:VEVENT
DTSTART;TZID=Europe/Amsterdam:20260609T170000
DTEND;TZID=Europe/Amsterdam:20260609T235000
DTSTAMP:20260421T134045
CREATED:20260415T112830Z
LAST-MODIFIED:20260415T112830Z
UID:8484-1781024400-1781049000@kfwommels.nl
SUMMARY:Jeugdtraining + competitie
DESCRIPTION:17.00 uur kabouters | 17.45 welpen t/m schooljeugd | 18.45 competitie welpen t/m schooljeugd
URL:https://kfwommels.nl/aktiviteit/jeugdtraining-competitie-7/
CATEGORIES:Kompetysje Jongerein
END:VEVENT
BEGIN:VEVENT
DTSTART;TZID=Europe/Amsterdam:20260611T190000
DTEND;TZID=Europe/Amsterdam:20260611T235000
DTSTAMP:20260421T134045
CREATED:20260415T112745Z
LAST-MODIFIED:20260415T112745Z
UID:8452-1781204400-1781221800@kfwommels.nl
SUMMARY:Competitie
DESCRIPTION:
URL:https://kfwommels.nl/aktiviteit/competitie-4/
END:VEVENT
BEGIN:VEVENT
DTSTART;TZID=Europe/Amsterdam:20260613T100000
DTEND;TZID=Europe/Amsterdam:20260613T235000
DTSTAMP:20260421T134045
CREATED:20260415T112745Z
LAST-MODIFIED:20260419T151142Z
UID:8449-1781344800-1781394600@kfwommels.nl
SUMMARY:Jeugdwedstrijd
DESCRIPTION:10.00 uur in Easterein
URL:https://kfwommels.nl/aktiviteit/jeugdwedstrijd/
CATEGORIES:Jeugdpartijen
END:VEVENT
BEGIN:VEVENT
DTSTART;TZID=Europe/Amsterdam:20260616T170000
DTEND;TZID=Europe/Amsterdam:20260616T235000
DTSTAMP:20260421T134045
CREATED:20260415T112847Z
LAST-MODIFIED:20260415T112847Z
UID:8487-1781629200-1781653800@kfwommels.nl
SUMMARY:Jeugdtraining + competitie
DESCRIPTION:17.00 uur kabouters | 17.45 welpen t/m schooljeugd | 18.45 competitie welpen t/m schooljeugd
URL:https://kfwommels.nl/aktiviteit/jeugdtraining-competitie-8/
CATEGORIES:Kompetysje Jongerein
END:VEVENT
BEGIN:VEVENT
DTSTART;TZID=Europe/Amsterdam:20260618T100000
DTEND;TZID=Europe/Amsterdam:20260618T235000
DTSTAMP:20260421T134045
CREATED:20260415T112809Z
LAST-MODIFIED:20260415T112809Z
UID:8472-1781776800-1781826600@kfwommels.nl
SUMMARY:Feestkeatsen
DESCRIPTION:
URL:https://kfwommels.nl/aktiviteit/feestkeatsen/
CATEGORIES:Ledenpartijen
END:VEVENT
BEGIN:VEVENT
DTSTART;TZID=Europe/Amsterdam:20260623T170000
DTEND;TZID=Europe/Amsterdam:20260623T235000
DTSTAMP:20260421T134045
CREATED:20260415T112848Z
LAST-MODIFIED:20260415T112848Z
UID:8489-1782234000-1782258600@kfwommels.nl
SUMMARY:Jeugdtraining + competitie
DESCRIPTION:17.00 uur kabouters | 17.45 welpen t/m schooljeugd | 18.45 competitie welpen t/m schooljeugd
URL:https://kfwommels.nl/aktiviteit/jeugdtraining-competitie-9/
CATEGORIES:Kompetysje Jongerein
END:VEVENT
BEGIN:VEVENT
DTSTART;TZID=Europe/Amsterdam:20260625T190000
DTEND;TZID=Europe/Amsterdam:20260625T235000
DTSTAMP:20260421T134045
CREATED:20260415T112747Z
LAST-MODIFIED:20260415T112747Z
UID:8453-1782414000-1782431400@kfwommels.nl
SUMMARY:Competitie
DESCRIPTION:
URL:https://kfwommels.nl/aktiviteit/competitie-5/
CATEGORIES:Kompetysje Senioaren
END:VEVENT
BEGIN:VEVENT
DTSTART;TZID=Europe/Amsterdam:20260626T150000
DTEND;TZID=Europe/Amsterdam:20260626T235000
DTSTAMP:20260421T134045
CREATED:20260415T112745Z
LAST-MODIFIED:20260419T151315Z
UID:8450-1782486000-1782517800@kfwommels.nl
SUMMARY:Jeugdwedstrijd
DESCRIPTION:Kabouters t/m de schooljeugd \n  \n15.00 kabouters en welpen \n16.00 pupillen en schooljeugd
URL:https://kfwommels.nl/aktiviteit/jeugdwedstrijd-2/
CATEGORIES:Jeugdpartijen
END:VEVENT
BEGIN:VEVENT
DTSTART;TZID=Europe/Amsterdam:20260628T100000
DTEND;TZID=Europe/Amsterdam:20260628T235000
DTSTAMP:20260421T134045
CREATED:20260415T112830Z
LAST-MODIFIED:20260415T112830Z
UID:8486-1782640800-1782690600@kfwommels.nl
SUMMARY:Schooljonges en schoolmeisjes
DESCRIPTION:
URL:https://kfwommels.nl/aktiviteit/schooljonges-en-schoolmeisjes/
CATEGORIES:KNKB partijen
END:VEVENT
BEGIN:VEVENT
DTSTART;TZID=Europe/Amsterdam:20260630T170000
DTEND;TZID=Europe/Amsterdam:20260630T235000
DTSTAMP:20260421T134045
CREATED:20260415T112858Z
LAST-MODIFIED:20260415T112858Z
UID:8492-1782838800-1782863400@kfwommels.nl
SUMMARY:Jeugdtraining + competitie
DESCRIPTION:17.00 uur kabouters | 17.45 welpen t/m schooljeugd | 18.45 competitie welpen t/m schooljeugd
URL:https://kfwommels.nl/aktiviteit/jeugdtraining-competitie-10/
CATEGORIES:Kompetysje Jongerein
END:VEVENT
BEGIN:VEVENT
DTSTART;TZID=Europe/Amsterdam:20260702T190000
DTEND;TZID=Europe/Amsterdam:20260702T235000
DTSTAMP:20260421T134045
CREATED:20260415T112749Z
LAST-MODIFIED:20260415T112749Z
UID:8456-1783018800-1783036200@kfwommels.nl
SUMMARY:Competitie
DESCRIPTION:
URL:https://kfwommels.nl/aktiviteit/competitie-7/
CATEGORIES:Kompetysje Senioaren
END:VEVENT
BEGIN:VEVENT
DTSTART;TZID=Europe/Amsterdam:20260709T190000
DTEND;TZID=Europe/Amsterdam:20260709T235000
DTSTAMP:20260421T134045
CREATED:20260415T112756Z
LAST-MODIFIED:20260415T112757Z
UID:8458-1783623600-1783641000@kfwommels.nl
SUMMARY:Competitie
DESCRIPTION:
URL:https://kfwommels.nl/aktiviteit/competitie-8/
CATEGORIES:Kompetysje Senioaren
END:VEVENT
BEGIN:VEVENT
DTSTART;TZID=Europe/Amsterdam:20260712T200000
DTEND;TZID=Europe/Amsterdam:20260712T235000
DTSTAMP:20260421T134045
CREATED:20260415T112809Z
LAST-MODIFIED:20260415T112809Z
UID:8473-1783886400-1783900200@kfwommels.nl
SUMMARY:pearkekeatsen
DESCRIPTION:
URL:https://kfwommels.nl/aktiviteit/pearkekeatsen/
CATEGORIES:Ledenpartijen
END:VEVENT
BEGIN:VEVENT
DTSTART;TZID=Europe/Amsterdam:20260716T190000
DTEND;TZID=Europe/Amsterdam:20260716T235000
DTSTAMP:20260421T134045
CREATED:20260415T112756Z
LAST-MODIFIED:20260415T112757Z
UID:8459-1784228400-1784245800@kfwommels.nl
SUMMARY:Competitie
DESCRIPTION:
URL:https://kfwommels.nl/aktiviteit/competitie-9/
CATEGORIES:Kompetysje Senioaren
END:VEVENT
END:VCALENDAR