BEGIN:VCALENDAR
VERSION:2.0
PRODID:-//K.F. Wommels - ECPv6.15.20//NONSGML v1.0//EN
CALSCALE:GREGORIAN
METHOD:PUBLISH
X-WR-CALNAME:K.F. Wommels
X-ORIGINAL-URL:https://kfwommels.nl
X-WR-CALDESC:Evenementen voor K.F. Wommels
REFRESH-INTERVAL;VALUE=DURATION:PT1H
X-Robots-Tag:noindex
X-PUBLISHED-TTL:PT1H
BEGIN:VTIMEZONE
TZID:Europe/Amsterdam
BEGIN:DAYLIGHT
TZOFFSETFROM:+0100
TZOFFSETTO:+0200
TZNAME:CEST
DTSTART:20250330T010000
END:DAYLIGHT
BEGIN:STANDARD
TZOFFSETFROM:+0200
TZOFFSETTO:+0100
TZNAME:CET
DTSTART:20251026T010000
END:STANDARD
BEGIN:DAYLIGHT
TZOFFSETFROM:+0100
TZOFFSETTO:+0200
TZNAME:CEST
DTSTART:20260329T010000
END:DAYLIGHT
BEGIN:STANDARD
TZOFFSETFROM:+0200
TZOFFSETTO:+0100
TZNAME:CET
DTSTART:20261025T010000
END:STANDARD
BEGIN:DAYLIGHT
TZOFFSETFROM:+0100
TZOFFSETTO:+0200
TZNAME:CEST
DTSTART:20270328T010000
END:DAYLIGHT
BEGIN:STANDARD
TZOFFSETFROM:+0200
TZOFFSETTO:+0100
TZNAME:CET
DTSTART:20271031T010000
END:STANDARD
END:VTIMEZONE
BEGIN:VEVENT
DTSTART;TZID=Europe/Amsterdam:20260522T150000
DTEND;TZID=Europe/Amsterdam:20260522T235000
DTSTAMP:20260422T040610
CREATED:20260415T112740Z
LAST-MODIFIED:20260415T112758Z
UID:8446-1779462000-1779493800@kfwommels.nl
SUMMARY:Gezamenlijke wedstrijd met KF Easterein
DESCRIPTION:
URL:https://kfwommels.nl/aktiviteit/gezamenlijke-wedstrijd-met-kf-easterein/
CATEGORIES:Jeugdpartijen
END:VEVENT
BEGIN:VEVENT
DTSTART;TZID=Europe/Amsterdam:20260521T190000
DTEND;TZID=Europe/Amsterdam:20260521T235000
DTSTAMP:20260422T040610
CREATED:20260415T112830Z
LAST-MODIFIED:20260415T112830Z
UID:8485-1779390000-1779407400@kfwommels.nl
SUMMARY:Competitie
DESCRIPTION:
URL:https://kfwommels.nl/aktiviteit/competitie-14/
CATEGORIES:Kompetysje Senioaren
END:VEVENT
BEGIN:VEVENT
DTSTART;TZID=Europe/Amsterdam:20260519T170000
DTEND;TZID=Europe/Amsterdam:20260519T235000
DTSTAMP:20260422T040610
CREATED:20260415T112821Z
LAST-MODIFIED:20260415T112821Z
UID:8481-1779210000-1779234600@kfwommels.nl
SUMMARY:Jeugdtraining + competitie
DESCRIPTION:17.00 uur kabouters | 17.45 welpen t/m schooljeugd | 18.45 competitie welpen t/m schooljeugd
URL:https://kfwommels.nl/aktiviteit/jeugdtraining-competitie-4/
CATEGORIES:Kompetysje Jongerein
END:VEVENT
BEGIN:VEVENT
DTSTART;TZID=Europe/Amsterdam:20260514T110000
DTEND;TZID=Europe/Amsterdam:20260514T235000
DTSTAMP:20260422T040610
CREATED:20260415T112805Z
LAST-MODIFIED:20260415T112805Z
UID:8470-1778756400-1778802600@kfwommels.nl
SUMMARY:Franke Osinga partij
DESCRIPTION:
URL:https://kfwommels.nl/aktiviteit/franke-osinga-partij/
CATEGORIES:Ledenpartijen
END:VEVENT
BEGIN:VEVENT
DTSTART;TZID=Europe/Amsterdam:20260512T170000
DTEND;TZID=Europe/Amsterdam:20260512T200000
DTSTAMP:20260422T040610
CREATED:20260415T112821Z
LAST-MODIFIED:20260415T112821Z
UID:8480-1778605200-1778616000@kfwommels.nl
SUMMARY:Jeugdtraining + competitie
DESCRIPTION:17.00 uur kabouters | 17.45 welpen t/m schooljeugd | 18.45 competitie welpen t/m schooljeugd
URL:https://kfwommels.nl/aktiviteit/jeugdtraining-competitie-3/
CATEGORIES:Kompetysje Jongerein
END:VEVENT
BEGIN:VEVENT
DTSTART;TZID=Europe/Amsterdam:20260507T190000
DTEND;TZID=Europe/Amsterdam:20260507T235000
DTSTAMP:20260422T040610
CREATED:20260415T112741Z
LAST-MODIFIED:20260415T112741Z
UID:8447-1778180400-1778197800@kfwommels.nl
SUMMARY:Competitie
DESCRIPTION:19:30
URL:https://kfwommels.nl/aktiviteit/competitie-2/
CATEGORIES:Kompetysje Senioaren
END:VEVENT
BEGIN:VEVENT
DTSTART;TZID=Europe/Amsterdam:20260506T170000
DTEND;TZID=Europe/Amsterdam:20260506T235000
DTSTAMP:20260422T040610
CREATED:20260415T112809Z
LAST-MODIFIED:20260415T112809Z
UID:8474-1778086800-1778111400@kfwommels.nl
SUMMARY:Jeugdtraining + competitie
DESCRIPTION:17.00 uur kabouters | 17.45 welpen t/m schooljeugd | 18.45 competitie welpen t/m schooljeugd
URL:https://kfwommels.nl/aktiviteit/jeugdtraining-competitie/
CATEGORIES:Kompetysje Jongerein
END:VEVENT
BEGIN:VEVENT
DTSTART;TZID=Europe/Amsterdam:20260430T190000
DTEND;TZID=Europe/Amsterdam:20260430T235000
DTSTAMP:20260422T040610
CREATED:20260415T112740Z
LAST-MODIFIED:20260415T112740Z
UID:8445-1777575600-1777593000@kfwommels.nl
SUMMARY:Competitie
DESCRIPTION:
URL:https://kfwommels.nl/aktiviteit/competitie/
CATEGORIES:Kompetysje Senioaren
END:VEVENT
BEGIN:VEVENT
DTSTART;TZID=Europe/Amsterdam:20260428T170000
DTEND;TZID=Europe/Amsterdam:20260428T235000
DTSTAMP:20260422T040610
CREATED:20260415T112820Z
LAST-MODIFIED:20260415T112820Z
UID:8479-1777395600-1777420200@kfwommels.nl
SUMMARY:Jeugdtraining + competitie
DESCRIPTION:17.00 uur kabouters | 17.45 welpen t/m schooljeugd | 18.45 competitie welpen t/m schooljeugd
URL:https://kfwommels.nl/aktiviteit/jeugdtraining-competitie-2/
CATEGORIES:Kompetysje Jongerein
END:VEVENT
BEGIN:VEVENT
DTSTART;TZID=Europe/Amsterdam:20260427T100000
DTEND;TZID=Europe/Amsterdam:20260427T235000
DTSTAMP:20260422T040610
CREATED:20260415T112740Z
LAST-MODIFIED:20260419T150823Z
UID:8444-1777284000-1777333800@kfwommels.nl
SUMMARY:Keningspartij
DESCRIPTION:10.00 uur start jeugd \n11.00 uur start senioren
URL:https://kfwommels.nl/aktiviteit/keningspartij/
CATEGORIES:Jeugdpartijen,Ledenpartijen
END:VEVENT
BEGIN:VEVENT
DTSTART;TZID=Europe/Amsterdam:20260423T193000
DTEND;TZID=Europe/Amsterdam:20260423T220000
DTSTAMP:20260422T040610
CREATED:20260415T112740Z
LAST-MODIFIED:20260419T150527Z
UID:8443-1776972600-1776981600@kfwommels.nl
SUMMARY:Start Competitie 19.30 uur
DESCRIPTION:Op 23 april starte wy mei de ledenkompetysje! | Meidwaan kin fia de WhatsApp-groep fan de KF. | Sitte jo dêr noch net yn? Jou dit dan efkes troch oan Arjanne Schaafsma of Baukje Terpstra\, dan soargje wy dat jo derby komme. | Wy ha der sin oan – oant op it fjild! | Op 23 april starten we met de ledencompetitie! | Meedoen kan via de WhatsApp-groep van de KF. | Zit je daar nog niet in? Geef dit dan even door aan Arjanne Schaafsma of Baukje Terpstra\, dan zorgen we dat je wordt toegevoegd. | We hebben er zin in – tot op het veld!
URL:https://kfwommels.nl/aktiviteit/start-competitie/
CATEGORIES:Kompetysje Senioaren
END:VEVENT
END:VCALENDAR